BEGIN:VCALENDAR
VERSION:2.0
PRODID:-//ChamberMaster//Event Calendar 2.0//EN
METHOD:PUBLISH
X-PUBLISHED-TTL:P3D
REFRESH-INTERVAL:P3D
CALSCALE:GREGORIAN
BEGIN:VEVENT
DTSTART:20251009T020000Z
DTEND:20251009T020000Z
X-MICROSOFT-CDO-ALLDAYEVENT:FALSE
SUMMARY:Zach Williams
DESCRIPTION:Get ready to experience a revival! Zach Williams is hitting the road this fall with friends We the Kingdom\, Ben Fuller\, and Leanna Crawford for the Revival Nights Tour! This is more than just a concert   it's a night of revival and renewal. Come as you are and experience the transforming power of music\, worship\, and community. Whether you're seeking hope\, healing\, or simply a night of incredible music\, Zach Williams' Revival Nights Tour is sure to be an experience like no other. Get your tickets now!
X-ALT-DESC;FMTTYPE=text/html:Get ready to experience a revival! Zach Williams is hitting the road this fall with friends We the Kingdom\, Ben Fuller\, and Leanna Crawford for the Revival Nights Tour! This is more than just a concert &mdash\; it&rsquo\;s a night of revival and renewal. Come as you are and experience the transforming power of music\, worship\, and community. Whether you&rsquo\;re seeking hope\, healing\, or simply a night of incredible music\, Zach Williams&rsquo\; Revival Nights Tour is sure to be an experience like no other. Get your tickets now!
LOCATION:Tahoe Blue Event Center 75 Hwy 50 Stateline\, NV 89449
UID:e.820.46987
SEQUENCE:3
DTSTAMP:20260423T134657Z
URL:https://business.carsonvalleynv.org/events/details/zach-williams-46987
END:VEVENT

END:VCALENDAR
