BEGIN:VCALENDAR
VERSION:2.0
PRODID:-//ChamberMaster//Event Calendar 2.0//EN
METHOD:PUBLISH
X-PUBLISHED-TTL:P3D
REFRESH-INTERVAL:P3D
CALSCALE:GREGORIAN
BEGIN:VEVENT
DTSTART:20251108T020000Z
DTEND:20251108T040000Z
X-MICROSOFT-CDO-ALLDAYEVENT:FALSE
SUMMARY:Wranglers & Whiskey
DESCRIPTION:Saddle up for a spirited evening at Minden Mill Distilling\, where every pour helps open doors for the youth in Douglas County. All proceeds from this cocktail reception benefits the Boys & Girls Clubs of Western Nevada's Wray Family Clubhouse. Each ticket includes appetizers from Sierra Chef Catering\, (2) complimentary drink tickets\, and (4) raffle tickets to be entered into a drawing for a selection of western-themed items and baskets from local Douglas County businesses.
X-ALT-DESC;FMTTYPE=text/html:Saddle up for a spirited evening at Minden Mill Distilling\, where every pour helps open doors for the youth in Douglas County. All proceeds from this cocktail reception benefits the Boys &amp\; Girls Clubs of Western Nevada&#39\;s Wray Family Clubhouse. Each ticket includes appetizers from Sierra Chef Catering\, (2) complimentary drink tickets\, and (4) raffle tickets to be entered into a drawing for a selection of western-themed items and baskets from local Douglas County businesses.
LOCATION:Minden Mill Distilling
UID:e.820.47015
SEQUENCE:3
DTSTAMP:20260423T152210Z
URL:https://business.carsonvalleynv.org/events/details/wranglers-whiskey-47015
END:VEVENT

END:VCALENDAR
