BEGIN:VCALENDAR
VERSION:2.0
PRODID:-//ChamberMaster//Event Calendar 2.0//EN
METHOD:PUBLISH
X-PUBLISHED-TTL:P3D
REFRESH-INTERVAL:P3D
CALSCALE:GREGORIAN
BEGIN:VEVENT
DTSTART:20250905T010000Z
DTEND:20250905T030000Z
X-MICROSOFT-CDO-ALLDAYEVENT:FALSE
SUMMARY:Will James Society Scholarship MOVIE ""The man they call Will James" and a Chautauqua of Will & Alice James Performed by Kim Harris and Mike Olsen. COD Casino 6pm $10 at the door.
DESCRIPTION:Will James Society Scholarship MOVIE ""The man they call Will James" and a Chautauqua of Will & Alice James Performed by Kim Harris and Mike Olsen" September 4th\, 2025 COD Casino Esmeralda St. Minden\, Nevada 6.PM $10. at the door Popcorn and a soda http://www.willjamessociety.org Contact Sharon @ 775-265-7137
X-ALT-DESC;FMTTYPE=text/html:Will James Society Scholarship MOVIE &quot\;&quot\;The man they call Will James&quot\; and a Chautauqua of Will &amp\; Alice James Performed by Kim Harris and Mike Olsen&quot\; September 4th\, 2025 COD Casino Esmeralda St. Minden\, Nevada 6.PM $10. at the door Popcorn and a soda http://www.willjamessociety.org Contact Sharon @ 775-265-7137
LOCATION:COD Casino 1593 Esmeralda St. Minden\, Nevada
UID:e.820.47014
SEQUENCE:3
DTSTAMP:20260423T140710Z
URL:https://business.carsonvalleynv.org/events/details/will-james-society-scholarship-movie-the-man-they-call-will-james-and-a-chautauqua-of-will-alice-james-performed-by-kim-harris-and-mike-olsen-cod-casino-6pm-10-at-the-door-47014
END:VEVENT

END:VCALENDAR
