BEGIN:VCALENDAR
VERSION:2.0
PRODID:-//ChamberMaster//Event Calendar 2.0//EN
METHOD:PUBLISH
X-PUBLISHED-TTL:P3D
REFRESH-INTERVAL:P3D
CALSCALE:GREGORIAN
BEGIN:VEVENT
DTSTART:20250905T233000Z
DTEND:20250906T023000Z
X-MICROSOFT-CDO-ALLDAYEVENT:FALSE
SUMMARY:Will James Society Gather Banquet Scholarship Fundraiser. Western Music\, Cowboy/Cowgirl Poetry\, Great Cowboy Dinner prepared by Carson City BBQ. Silent Auction\, many rare collectable Books and Art! CVIC 4:30pm Esmeralda Ave.
DESCRIPTION:Will James Society Gather Banquet Scholarship Fundraiser. Western Music\, Cowboy and Cowgirl Poetry\, Great Cowboy Dinner prepared by Carson City BBQ. Silent Auction\, many rare collectable Books and Art! CVIC 4:30pm Esmeralda Ave. All proceeds go to WJS Scholarship fund. Come have Fun! 775-265-7137 for Tickets. $60 per person or Table of 10 $500. https://willjamessociety.org/events/
X-ALT-DESC;FMTTYPE=text/html:Will James Society Gather Banquet Scholarship Fundraiser. Western Music\, Cowboy and Cowgirl Poetry\, Great Cowboy Dinner prepared by Carson City BBQ. Silent Auction\, many rare collectable Books and Art! CVIC 4:30pm Esmeralda Ave. All proceeds go to WJS Scholarship fund. Come have Fun! 775-265-7137 for Tickets. $60 per person or Table of 10 $500. https://willjamessociety.org/events/
LOCATION:CVIC 1604 Esmeralda St. Minden\, Nevada
UID:e.820.47016
SEQUENCE:3
DTSTAMP:20260423T140715Z
URL:https://business.carsonvalleynv.org/events/details/will-james-society-gather-banquet-scholarship-fundraiser-western-music-cowboy-cowgirl-poetry-great-cowboy-dinner-prepared-by-carson-city-bbq-silent-auction-many-rare-collectable-books-and-art-cvic-4-30pm-esmeralda-ave-47016
END:VEVENT

END:VCALENDAR
