BEGIN:VCALENDAR
VERSION:2.0
PRODID:-//ChamberMaster//Event Calendar 2.0//EN
METHOD:PUBLISH
X-PUBLISHED-TTL:P3D
REFRESH-INTERVAL:P3D
CALSCALE:GREGORIAN
BEGIN:VEVENT
DTSTART:20150929T200000Z
DTEND:20150929T210000Z
X-MICROSOFT-CDO-ALLDAYEVENT:FALSE
SUMMARY:Wellness Seminar "Caring for the Aging Brain"
DESCRIPTION:Caron Valley Medical Center hosts\n\nWellness Seminar\n\n"Caring for the Aging Brain"\n\nat the Douglas County Community  & Senior Center\n\nFrank Jacobelli will speak. \n\n\n\nContact for Information and Reservations
X-ALT-DESC;FMTTYPE=text/html:<div style="text-align: center\;"><span style="font-family: times new roman\;"><span style="font-size: 14px\;"><span style="font-size: 16px\;"><font face="Arial">Caron Valley Medical Center hosts<br />\nWellness Seminar<br />\n&quot\;Caring for the Aging Brain&quot\;<br />\nat the Douglas County Community&nbsp\; &amp\; Senior Center<br />\nFrank Jacobelli will speak.&nbsp\;<br />\n<br />\nContact for Information and Reservations</font></span></span></span></div>\n
LOCATION:1329 Waterloo Lane Gardnerville
UID:e.820.13683
SEQUENCE:3
DTSTAMP:20260426T015632Z
URL:https://business.carsonvalleynv.org/events/details/wellness-seminar-caring-for-the-aging-brain-09-29-2015-13683
END:VEVENT

END:VCALENDAR
