BEGIN:VCALENDAR
VERSION:2.0
PRODID:-//ChamberMaster//Event Calendar 2.0//EN
METHOD:PUBLISH
X-PUBLISHED-TTL:P3D
REFRESH-INTERVAL:P3D
CALSCALE:GREGORIAN
BEGIN:VEVENT
DTSTART:20150912T150000Z
DTEND:20150912T170000Z
X-MICROSOFT-CDO-ALLDAYEVENT:FALSE
SUMMARY:Walk in memory-Walk for Hope
DESCRIPTION:Suicide can be prevented through public awareness. On September 12\, 2015\, please join us and many others throughout the United States as we walk in recognition of suicide prevention. \n\nWalk in memory- Walk for Hope **Pre-registration: $20.00 donation which includes an event t-shirt can be done before September 12 at the Suicide Prevention Office. If you already have a t-shirt we ask for a $10.00 donation to walk JOIN US for Community Breakfast for Awareness Please join us from 8:00 to 9:00 AM for a great breakfast (for donation) prepared by the Knights of Columbus. Its open to the public! If you would like to come for breakfast but wont be walking\, that's OK too!\n\n  There will be exhibitors & vendors for you to visit before and  after the walk. And\, a few of  our exhibitors have made it possible for you to do a little shopping!                                              You are very welcome to join us regardless of how you participate                                            Memory Signs displayed during the walk for your loved one for a donation of $12.00.                        Come   and walk with us and bring awareness to suicide to our community!\n\n \n\n775.783.1510
X-ALT-DESC;FMTTYPE=text/html:<span style="font-size:14px"><strong>Suicide can be prevented through public awareness. On September 12\, 2015\, please join us and many others throughout the United States as we walk in recognition of suicide prevention.&nbsp\;</strong></span>\n\n<p><span style="font-family:arial black"><span style="font-size:14.0pt"><span style="font-size:12px">Walk in memory- Walk for Hope **Pre-registration: $20.00 donation which includes an event t-shirt can be done before September 12 at the Suicide Prevention Office. If you already have a t-shirt we ask for a $10.00 donation to walk </span></span><span style="font-size:10.0pt">JOIN US for Community Breakfast for Awareness</span></span> <span style="font-family:arial black"><span style="font-size:10.0pt">Please join us from 8:00 to 9:00 AM for a great breakfast (for donation) prepared by the Knights of Columbus. Its open to the public! If you would like to come for breakfast but wont be walking\, that&rsquo\;s OK too!</span></span><br />\n<span style="font-family:arial black"><span style="font-size:10.0pt">&nbsp\; There will be exhibitors &amp\; vendors for you to visit before and &nbsp\;after the walk. And\, a few of &nbsp\;our exhibitors have made it possible for you to do a little shopping! &nbsp\; &nbsp\; &nbsp\; &nbsp\; &nbsp\; &nbsp\; &nbsp\; &nbsp\; &nbsp\; &nbsp\; &nbsp\; &nbsp\; &nbsp\; &nbsp\; &nbsp\; &nbsp\; &nbsp\; &nbsp\; &nbsp\; &nbsp\; &nbsp\; &nbsp\; &nbsp\;You are very welcome to join us regardless of how you participate &nbsp\; &nbsp\; &nbsp\; &nbsp\; &nbsp\; &nbsp\; &nbsp\; &nbsp\; &nbsp\; &nbsp\; &nbsp\; &nbsp\; &nbsp\; &nbsp\; &nbsp\; &nbsp\; &nbsp\; &nbsp\; &nbsp\; &nbsp\; &nbsp\; &nbsp\;Memory Signs displayed during the walk for your loved one for a donation of $12.00. &nbsp\; &nbsp\; &nbsp\; &nbsp\; &nbsp\; &nbsp\; &nbsp\; &nbsp\; &nbsp\; &nbsp\; &nbsp\; &nbsp\;Come &nbsp\; and walk with us and bring awareness to suicide to our community!</span></span><br />\n&nbsp\;<br />\n<span style="font-family:arial black"><span style="font-size:14.0pt">775.783.1510&nbsp\;&nbsp\;&nbsp\;&nbsp\;&nbsp\;&nbsp\;&nbsp\;&nbsp\;&nbsp\;&nbsp\;&nbsp\;&nbsp\;&nbsp\;&nbsp\;&nbsp\;&nbsp\;&nbsp\;&nbsp\;&nbsp\;&nbsp\;&nbsp\;&nbsp\;&nbsp\;&nbsp\;&nbsp\;&nbsp\;&nbsp\;&nbsp\;&nbsp\;&nbsp\;&nbsp\;&nbsp\;&nbsp\;&nbsp\;&nbsp\;&nbsp\;&nbsp\;&nbsp\;&nbsp\;&nbsp\;&nbsp\;&nbsp\;&nbsp\;&nbsp\;&nbsp\;&nbsp\;&nbsp\;&nbsp\;&nbsp\;&nbsp\;&nbsp\;&nbsp\;&nbsp\;&nbsp\;&nbsp\;&nbsp\;&nbsp\;&nbsp\;&nbsp\;&nbsp\;&nbsp\;&nbsp\;&nbsp\;&nbsp\;&nbsp\;&nbsp\;&nbsp\;&nbsp\;&nbsp\;&nbsp\;&nbsp\;&nbsp\;&nbsp\;&nbsp\;&nbsp\;&nbsp\;&nbsp\;&nbsp\;&nbsp\;&nbsp\;&nbsp\;&nbsp\;&nbsp\;&nbsp\;&nbsp\;&nbsp\;&nbsp\;&nbsp\;&nbsp\;&nbsp\;&nbsp\;&nbsp\;&nbsp\;&nbsp\;&nbsp\;&nbsp\;&nbsp\;&nbsp\;&nbsp\;&nbsp\;&nbsp\;&nbsp\;&nbsp\;&nbsp\;&nbsp\;&nbsp\;&nbsp\;&nbsp\;&nbsp\;&nbsp\;&nbsp\;&nbsp\;&nbsp\;&nbsp\;&nbsp\;&nbsp\;&nbsp\;&nbsp\;&nbsp\;&nbsp\;&nbsp\;&nbsp\;&nbsp\;&nbsp\;&nbsp\;&nbsp\;&nbsp\;&nbsp\;&nbsp\;&nbsp\;&nbsp\;&nbsp\;&nbsp\; </span></span></p>\n&nbsp\;<br />\n&nbsp\;
LOCATION:Carson Valley Historical Museum -1477 U. S. Highway 395 in Gardnerville\, NV. 89410
UID:e.820.13184
SEQUENCE:3
DTSTAMP:20260426T015337Z
URL:https://business.carsonvalleynv.org/events/details/walk-in-memory-walk-for-hope-09-12-2015-13184
END:VEVENT

END:VCALENDAR
