BEGIN:VCALENDAR
VERSION:2.0
PRODID:-//ChamberMaster//Event Calendar 2.0//EN
METHOD:PUBLISH
X-PUBLISHED-TTL:P3D
REFRESH-INTERVAL:P3D
CALSCALE:GREGORIAN
BEGIN:VEVENT
DTSTART:20160604T210000Z
DTEND:20160604T230000Z
X-MICROSOFT-CDO-ALLDAYEVENT:FALSE
SUMMARY:Volunteer Orientation Dangberg Home Ranch Historic Park
DESCRIPTION:Dangberg Home Ranch Historic Park is looking for volunteers and hosting volunteer staff orientation at 2pm at the park.
X-ALT-DESC;FMTTYPE=text/html:Dangberg Home Ranch Historic Park is looking for volunteers and hosting volunteer staff orientation at 2pm at the park.<br />\n&nbsp\;
LOCATION:1450 Highway 88 Minden
UID:e.820.18897
SEQUENCE:3
DTSTAMP:20260424T002719Z
URL:https://business.carsonvalleynv.org/events/details/volunteer-orientation-dangberg-home-ranch-historic-park-06-04-2016-18897
END:VEVENT

END:VCALENDAR
