BEGIN:VCALENDAR
VERSION:2.0
PRODID:-//ChamberMaster//Event Calendar 2.0//EN
METHOD:PUBLISH
X-PUBLISHED-TTL:P3D
REFRESH-INTERVAL:P3D
CALSCALE:GREGORIAN
BEGIN:VEVENT
DTSTART:20251106T190000Z
DTEND:20251106T200000Z
X-MICROSOFT-CDO-ALLDAYEVENT:FALSE
SUMMARY:Valage Financial Wellness: Ask the Experts
DESCRIPTION:Valage Senior Living at Carson Valley presents: Financial Wellness: Ask the Experts
X-ALT-DESC;FMTTYPE=text/html:Valage Senior Living at Carson Valley presents: Financial Wellness: Ask the Experts
LOCATION:Valage 973 Ironwood Drive Minden\, Nv
UID:e.820.47107
SEQUENCE:3
DTSTAMP:20260423T152332Z
URL:https://business.carsonvalleynv.org/events/details/valage-financial-wellness-ask-the-experts-47107
END:VEVENT

END:VCALENDAR
