BEGIN:VCALENDAR
VERSION:2.0
PRODID:-//ChamberMaster//Event Calendar 2.0//EN
METHOD:PUBLISH
X-PUBLISHED-TTL:P3D
REFRESH-INTERVAL:P3D
CALSCALE:GREGORIAN
BEGIN:VEVENT
DTSTART;VALUE=DATE:20150822
DTEND;VALUE=DATE:20150824
TRANSP:TRANSPARENT
X-MICROSOFT-CDO-ALLDAYEVENT:TRUE
SUMMARY:USAF Thunderbirds at Aviation Roundup
DESCRIPTION:In a rare appearance in Northern Nevada\, the USAF thunderbirds Flight Team will perform over the Minden Tahoe Airport as part of the Aviation Roundup. There will be full performances on Saturday\, August 22nd and Sunday\, August 23rd. In addition to the Thunderbirds\, there will be 6 other exciting performers\, static displays\, and much more!
X-ALT-DESC;FMTTYPE=text/html:In a rare appearance in Northern Nevada\, the USAF thunderbirds Flight Team will perform over the Minden Tahoe Airport as part of the Aviation Roundup. There will be full performances on Saturday\, August 22nd and Sunday\, August 23rd. In addition to the Thunderbirds\, there will be 6 other exciting performers\, static displays\, and much more!
LOCATION:Minden Tahoe Airport Airport Road\, MInden
UID:e.820.13615
SEQUENCE:3
DTSTAMP:20260426T032729Z
URL:https://business.carsonvalleynv.org/events/details/usaf-thunderbirds-at-aviation-roundup-08-22-2015-13615
END:VEVENT

END:VCALENDAR
