BEGIN:VCALENDAR
VERSION:2.0
PRODID:-//ChamberMaster//Event Calendar 2.0//EN
METHOD:PUBLISH
X-PUBLISHED-TTL:P3D
REFRESH-INTERVAL:P3D
CALSCALE:GREGORIAN
BEGIN:VEVENT
DTSTART:20251212T030000Z
DTEND:20251212T030000Z
X-MICROSOFT-CDO-ALLDAYEVENT:FALSE
SUMMARY:Turnpike Troubadours Wild America
DESCRIPTION:The Turnpike Troubadours have never followed any script. Breakthrough albums have been followed by breakups. Triumphant reunions have overcome insurmountable odds. And live shows have been thrilling\, once-in-a-lifetime experiences. Now\, just two years since their comeback album\, A Cat in the Rain\, the Tahlequah\, Oklahoma\, band delivers yet another helping of the unexpected: the surprise release of The Price of Admission\, the group's most vibrant\, piercing album since 2010's career-defining Diamonds & Gasoline.
X-ALT-DESC;FMTTYPE=text/html:The Turnpike Troubadours have never followed any script. Breakthrough albums have been followed by breakups. Triumphant reunions have overcome insurmountable odds. And live shows have been thrilling\, once-in-a-lifetime experiences. Now\, just two years since their comeback album\, A Cat in the Rain\, the Tahlequah\, Oklahoma\, band delivers yet another helping of the unexpected: the surprise release of The Price of Admission\, the group&rsquo\;s most vibrant\, piercing album since 2010&rsquo\;s career-defining Diamonds &amp\; Gasoline.
LOCATION:Tahoe Blue Event Center 75 U.S. 50 Stateline\, Nevada 89449
UID:e.820.46994
SEQUENCE:3
DTSTAMP:20260423T163748Z
URL:https://business.carsonvalleynv.org/events/details/turnpike-troubadours-wild-america-46994
END:VEVENT

END:VCALENDAR
