BEGIN:VCALENDAR
VERSION:2.0
PRODID:-//ChamberMaster//Event Calendar 2.0//EN
METHOD:PUBLISH
X-PUBLISHED-TTL:P3D
REFRESH-INTERVAL:P3D
CALSCALE:GREGORIAN
BEGIN:VEVENT
DTSTART:20150829T003000Z
DTEND:20150829T040000Z
X-MICROSOFT-CDO-ALLDAYEVENT:FALSE
SUMMARY:Tom Rigney & Flambeau Concert & Dinner
DESCRIPTION:Please join us this Friday for a fabulous dinner and concert at Genoa Lakes!\n\nTom Rigney & Flambeau~ Voted Best Cajun/Zydeco Band of 2004 by the West Coast Blues Hall of Fame\, Tom Rigney and Flambeau are making some serious noise on the American Roots Music scene. Flambeau has been tearing things up at festivals\, dances\, and concerts all over - from the Ft. Lauderdale Cajun Crawfish Festival to the Edmonton Blues Festival to the Sacramento Jazz Jubilee to the Alaska State Fair\, to the Spring Bues Festival in Ecaussinnes\, Belgium.\n\n\n\nMenu~ TINY RUSTIC FRENCH ROLLS-Whipped Maple Syrup Butter\n\n GENOA LAKES' SIGNATURE COLE SLAW-Sweet-N-Spicy\, SALAD OF BABY LETTUCES- Garden Ripened Vegetables & Homemade Dressings\, SAVORY MARINATED SPLIT-ROASTED FREE-RANGE CHICKENS- Grilled Lemons & Fresh Rosemary\, 24-HOUR SLOW COOKED MESQUITE INFUSED PORK LOIN- Caramelized Apples & Smokey BBQ Sauce\, CRISPY THICK-CUT BAKED POTATO CHIPS- Loaded with Apple-Wood Smoked Bacon\, Scallions\, Cheddar & Jack Cheeses\, GRILLED MARINATED FARM-T0-TABLE VEGETABLE- Chipotle Mayo\, DUELING COBBLERS! - Apple & Wild Berry
X-ALT-DESC;FMTTYPE=text/html:Please join us this Friday for a fabulous dinner and concert at Genoa Lakes!<br />\nTom Rigney &amp\; Flambeau~ <span style="font-size: 12px\;"><span style="font-family: arial\,helvetica\,sans-serif\;"><span style="color: windowtext\;">Voted Best Cajun/Zydeco Band of 2004 by the West Coast Blues Hall of Fame\, Tom Rigney and Flambeau are making some serious noise on the American Roots Music scene. Flambeau has been tearing things up at festivals\, dances\, and concerts all over - from the Ft. Lauderdale Cajun Crawfish Festival to the Edmonton Blues Festival to the Sacramento Jazz Jubilee to the Alaska State Fair\, to the Spring Bues Festival in Ecaussinnes\, Belgium.<br />\n<br />\nMenu~ </span></span><span style="color: windowtext\;"><span style="font-family: georgia\;">TINY RUSTIC FRENCH ROLLS-Whipped Maple Syrup Butter</span></span><br />\n<span style="color: windowtext\;"><span style="font-family: georgia\;">&nbsp\;GENOA LAKES&rsquo\; SIGNATURE COLE SLAW-Sweet-N-Spicy\, SALAD OF BABY LETTUCES- Garden Ripened Vegetables &amp\; Homemade Dressings\, SAVORY MARINATED SPLIT-ROASTED FREE-RANGE CHICKENS- Grilled Lemons &amp\; Fresh Rosemary\, 24-HOUR SLOW COOKED MESQUITE INFUSED PORK LOIN- Caramelized Apples &amp\; Smokey BBQ Sauce\, CRISPY THICK-CUT BAKED POTATO CHIPS- Loaded with Apple-Wood Smoked Bacon\, Scallions\, Cheddar &amp\; Jack Cheeses\, GRILLED MARINATED FARM-T0-TABLE VEGETABLE- Chipotle Mayo\, DUELING COBBLERS! - Apple &amp\; Wild Berry</span></span></span><br />\n<br />\n&nbsp\;
LOCATION:Genoa Lakes Golf Club
UID:e.820.13652
SEQUENCE:3
DTSTAMP:20260426T032834Z
URL:https://business.carsonvalleynv.org/events/details/tom-rigney-flambeau-concert-dinner-08-28-2015-13652
END:VEVENT

END:VCALENDAR
