BEGIN:VCALENDAR
VERSION:2.0
PRODID:-//ChamberMaster//Event Calendar 2.0//EN
METHOD:PUBLISH
X-PUBLISHED-TTL:P3D
REFRESH-INTERVAL:P3D
CALSCALE:GREGORIAN
BEGIN:VEVENT
DTSTART:20150917T020000Z
DTEND:20150917T040000Z
X-MICROSOFT-CDO-ALLDAYEVENT:FALSE
SUMMARY:Toccata Concert
DESCRIPTION:Violinist Elizabeth Pitcairn returns with the Toccata-Tahoe Symphony Orchestra and Chorus for a concert.  Conducted by Music Director James Rawie the orchestra will perform at 7pm in the Corpus Christi Catholic Church in Carson City.
X-ALT-DESC;FMTTYPE=text/html:Violinist Elizabeth Pitcairn returns with the Toccata-Tahoe Symphony Orchestra and Chorus for a concert.&nbsp\; Conducted by Music Director James Rawie the orchestra will perform at 7pm in the Corpus Christi Catholic Church in Carson City.
LOCATION:Corpus Christi Catholic Church 3597 Sunridge Drive between Minden & Carson City
UID:e.820.13672
SEQUENCE:3
DTSTAMP:20260426T015535Z
URL:https://business.carsonvalleynv.org/events/details/toccata-concert-09-16-2015-13672
END:VEVENT

END:VCALENDAR
