BEGIN:VCALENDAR
VERSION:2.0
PRODID:-//ChamberMaster//Event Calendar 2.0//EN
METHOD:PUBLISH
X-PUBLISHED-TTL:P3D
REFRESH-INTERVAL:P3D
CALSCALE:GREGORIAN
BEGIN:VEVENT
DTSTART:20160716T020000Z
DTEND:20160716T050000Z
X-MICROSOFT-CDO-ALLDAYEVENT:FALSE
SUMMARY:TJ's Corral Concert - Clay Walker
DESCRIPTION:Rumor Has It . . . we're talking the Clay Walker #1 Hit which preceded both the movie and Adele song by the same name. And it's no rumor   Clay Walker has been added to the TJ's Corral Concert lineup   bringing us to seven concerts so far!  Clay is a multi-platinum recording artist with eleven #1 Hits and 32 billboard singles. You can hear all your favorites when he takes the TJ's Corral stage on Friday\, July 15.
X-ALT-DESC;FMTTYPE=text/html:<span style="background: white\; color: red\;"><strong>Rumor Has It</strong></span><span style="background: white\; color: red\;">&nbsp\;</span><span style="background: white\;">. . . we&rsquo\;re talking the Clay Walker #1 Hit which preceded both the movie and Adele song by the same name. And it&rsquo\;s no rumor &ndash\; Clay Walker has been added to the TJ&rsquo\;s Corral Concert lineup &ndash\; bringing us to seven concerts so far! &nbsp\;Clay is a multi-platinum recording artist with eleven #1 Hits and 32 billboard singles. You can hear all your favorites when he takes the TJ&rsquo\;s Corral stage on Friday\, July 15.</span><br />\n&nbsp\;
LOCATION:TJ's Corral Carson Valley Inn Minden
UID:e.820.18805
SEQUENCE:3
DTSTAMP:20260423T184413Z
URL:https://business.carsonvalleynv.org/events/details/tj-s-corral-concert-clay-walker-07-15-2016-18805
END:VEVENT

END:VCALENDAR
