BEGIN:VCALENDAR
VERSION:2.0
PRODID:-//ChamberMaster//Event Calendar 2.0//EN
METHOD:PUBLISH
X-PUBLISHED-TTL:P3D
REFRESH-INTERVAL:P3D
CALSCALE:GREGORIAN
BEGIN:VEVENT
DTSTART:20251006T160000Z
DTEND:20251006T230000Z
X-MICROSOFT-CDO-ALLDAYEVENT:FALSE
SUMMARY:The Neuroscience of Leadership: Leading Self
DESCRIPTION:Lead with clarity. Succeed with impact. Extended Studies' Advanced Leadership Academy is powerful training and coaching experience for senior leaders and key team members. During seven courses\, participants learn through proven strategies\, hands-on tools and expert guidance. Courses can be taken in any order. Info: extendedstudies.unr.edu/leadership.html The Oct. 6 course\, The Neuroscience of Leadership: Leading Self\, focuses on developing resilience and resourcefulness. Instructor Kevin Ciccotti will discuss neuroscience\, emotional intelligence and mindfulness. The course includes an EQ-i 2.0 Assessment. Info: https://bit.ly/4f1nmR7
X-ALT-DESC;FMTTYPE=text/html:Lead with clarity. Succeed with impact. Extended Studies&rsquo\; Advanced Leadership Academy is powerful training and coaching experience for senior leaders and key team members. During seven courses\, participants learn through proven strategies\, hands-on tools and expert guidance. Courses can be taken in any order. Info: extendedstudies.unr.edu/leadership.html The Oct. 6 course\, The Neuroscience of Leadership: Leading Self\, focuses on developing resilience and resourcefulness. Instructor Kevin Ciccotti will discuss neuroscience\, emotional intelligence and mindfulness. The course includes an EQ-i 2.0 Assessment. Info: https://bit.ly/4f1nmR7
LOCATION:Redfield Campus\, 18600 Wedge Parkway\, Building A\, Reno
UID:e.820.47062
SEQUENCE:3
DTSTAMP:20260423T152506Z
URL:https://business.carsonvalleynv.org/events/details/the-neuroscience-of-leadership-leading-self-47062
END:VEVENT

END:VCALENDAR
