BEGIN:VCALENDAR
VERSION:2.0
PRODID:-//ChamberMaster//Event Calendar 2.0//EN
METHOD:PUBLISH
X-PUBLISHED-TTL:P3D
REFRESH-INTERVAL:P3D
CALSCALE:GREGORIAN
BEGIN:VEVENT
DTSTART:20250920T170000Z
DTEND:20250920T210000Z
X-MICROSOFT-CDO-ALLDAYEVENT:FALSE
SUMMARY:The Market At Markleeville
DESCRIPTION:Food-Farmers0Libations-Music-Kids Activities-Arts-Crafts-Bakery-Food Trucks-Gourmet Items-And Soooo Much More.....See you There!
X-ALT-DESC;FMTTYPE=text/html:Food-Farmers0Libations-Music-Kids Activities-Arts-Crafts-Bakery-Food Trucks-Gourmet Items-And Soooo Much More.....See you There!
LOCATION:Downtown Markleeville
UID:e.820.46889
SEQUENCE:3
DTSTAMP:20260423T122032Z
URL:https://business.carsonvalleynv.org/events/details/the-market-at-markleeville-09-20-2025-46889
END:VEVENT

END:VCALENDAR
