BEGIN:VCALENDAR
VERSION:2.0
PRODID:-//ChamberMaster//Event Calendar 2.0//EN
METHOD:PUBLISH
X-PUBLISHED-TTL:P3D
REFRESH-INTERVAL:P3D
CALSCALE:GREGORIAN
BEGIN:VEVENT
DTSTART:20251014T200000Z
DTEND:20251014T220000Z
X-MICROSOFT-CDO-ALLDAYEVENT:FALSE
SUMMARY:Tenant & Tour Operator Workshop for New Nevada Adventure Center in Carson City
DESCRIPTION:Travel Nevada will host a Tenant & Tour Operator Workshop on Tuesday\, Oct. 14\, from 1 to 3 p.m. at the Nevada State Railroad Museum for businesses interested in leasing space at the new Nevada Adventure Center in Carson City. Travel Nevada has announced two Nevada Adventure Centers   one in Carson City and another in Boulder City. Expected to open in early fall 2026\, the Nevada Adventure Center in Carson City is an all-new hub designed to connect visitors with northern Nevada's outdoor experiences. Serving as a base camp for tour operators and outfitters\, the center will provide trip-planning resources\, safety and conservation information\, and direct connections to guided tours\, gear\, and other adventure services   all supported by Travel Nevada's statewide marketing to drive year-round traffic.
X-ALT-DESC;FMTTYPE=text/html:Travel Nevada will host a Tenant &amp\; Tour Operator Workshop on Tuesday\, Oct. 14\, from 1 to 3 p.m. at the Nevada State Railroad Museum for businesses interested in leasing space at the new Nevada Adventure Center in Carson City. Travel Nevada has announced two Nevada Adventure Centers &mdash\; one in Carson City and another in Boulder City. Expected to open in early fall 2026\, the Nevada Adventure Center in Carson City is an all-new hub designed to connect visitors with northern Nevada&rsquo\;s outdoor experiences. Serving as a base camp for tour operators and outfitters\, the center will provide trip-planning resources\, safety and conservation information\, and direct connections to guided tours\, gear\, and other adventure services &mdash\; all supported by Travel Nevada&rsquo\;s statewide marketing to drive year-round traffic.
LOCATION:Nevada State Railroad Museum -- 2180 S Carson St\, Carson City\, NV 89701
UID:e.820.47089
SEQUENCE:3
DTSTAMP:20260423T135525Z
URL:https://business.carsonvalleynv.org/events/details/tenant-tour-operator-workshop-for-new-nevada-adventure-center-in-carson-city-47089
END:VEVENT

END:VCALENDAR
