BEGIN:VCALENDAR
VERSION:2.0
PRODID:-//ChamberMaster//Event Calendar 2.0//EN
METHOD:PUBLISH
X-PUBLISHED-TTL:P3D
REFRESH-INTERVAL:P3D
CALSCALE:GREGORIAN
BEGIN:VEVENT
DTSTART:20160630T233000Z
DTEND:20160701T010000Z
X-MICROSOFT-CDO-ALLDAYEVENT:FALSE
SUMMARY:Taste of Home Ribbon Cutting
DESCRIPTION:Join us as "Taste of Home Restaurant" officially \n \n\nwelcomes Carson Valley to enjoy their home style\n\n\n\ncuisine and hospitality! Sample complimentary\n\n\n\nappetizers to just get your appetite excited\, then\n\n\n\nstay for the ribbon cutting at 5:15 and\n\n\n\nfor 'Ribbon Cutting' Dinner Specials that evening.\n\n\n\nDrop your business card to win restaurant gift\n\n\n\ncertificates\, drawn at 5:30 and 5:45...
X-ALT-DESC;FMTTYPE=text/html:<h3 style="text-align: center\;">&nbsp\;</h3>\n\n<h3><span style="font-size:16px\;">Join us as &quot\;Taste of Home Restaurant&quot\; officially </span></h3>\n&nbsp\;\n\n<h3><span style="font-size:16px\;">welcomes Carson Valley to enjoy their home style<br />\n<br />\ncuisine and hospitality! Sample complimentary<br />\n<br />\nappetizers to just get your appetite excited\, then<br />\n<br />\nstay for the ribbon cutting at 5:15 and<br />\n<br />\nfor &#39\;Ribbon Cutting&#39\; Dinner Specials that evening.<br />\n<br />\nDrop your business card to win restaurant gift<br />\n<br />\ncertificates\, drawn at 5:30 and 5:45...</span></h3>\n
LOCATION:1799 Ironwood\, Minden Corner of Ironwood and 395
UID:e.820.18947
SEQUENCE:3
DTSTAMP:20260424T003227Z
URL:https://business.carsonvalleynv.org/events/details/taste-of-home-ribbon-cutting-06-30-2016-18947
END:VEVENT

END:VCALENDAR
