BEGIN:VCALENDAR
VERSION:2.0
PRODID:-//ChamberMaster//Event Calendar 2.0//EN
METHOD:PUBLISH
X-PUBLISHED-TTL:P3D
REFRESH-INTERVAL:P3D
CALSCALE:GREGORIAN
BEGIN:VEVENT
DTSTART:20250920T180000Z
DTEND:20250921T220000Z
X-MICROSOFT-CDO-ALLDAYEVENT:FALSE
SUMMARY:Tahoe Wine & Feast
DESCRIPTION:Amaze yourself and friends at the world renown alpine setting of Lake Tahoe. Your senses will be overjoyed as the Tahoe Wine + Feast premiers in September 2025. This four-day epicurean event will be staged at the shiny new Tahoe Blue Event Center Over 300+ wines to taste. There will be special feasts each evening and seminars will help you understand the world of wine and food even better.
X-ALT-DESC;FMTTYPE=text/html:Amaze yourself and friends at the world renown alpine setting of Lake Tahoe. Your senses will be overjoyed as the Tahoe Wine + Feast premiers in September 2025. This four-day epicurean event will be staged at the shiny new Tahoe Blue Event Center Over 300+ wines to taste. There will be special feasts each evening and seminars will help you understand the world of wine and food even better.
LOCATION:Tahoe Blue Event Center 75 U.S. 50 Stateline\, Nevada 89449
UID:e.820.46986
SEQUENCE:3
DTSTAMP:20260423T120958Z
URL:https://business.carsonvalleynv.org/events/details/tahoe-wine-feast-46986
END:VEVENT

END:VCALENDAR
