BEGIN:VCALENDAR
VERSION:2.0
PRODID:-//ChamberMaster//Event Calendar 2.0//EN
METHOD:PUBLISH
X-PUBLISHED-TTL:P3D
REFRESH-INTERVAL:P3D
CALSCALE:GREGORIAN
BEGIN:VEVENT
DTSTART:20251214T003000Z
DTEND:20251214T030000Z
X-MICROSOFT-CDO-ALLDAYEVENT:FALSE
SUMMARY:Tahoe Symphony Presents Messiah & Holiday Favorites
DESCRIPTION:The Tahoe Symphony Orchestra and Chorus will present their annual production of Handel's Messiah and holiday favorites in Gardnerville. Joyous refrains and exultant arias\, including the iconic "Hallelujah" Chorus\, will fill the concert hall this holiday season. This Baroque masterwork\, expressing the themes of hope\, redemption and grace\, showcases the magnificent artistry and skill of our celebrated orchestra and chorus\, complemented by exceptional soloists. Join us for this wonderful holiday tradition!
X-ALT-DESC;FMTTYPE=text/html:The Tahoe Symphony Orchestra and Chorus will present their annual production of Handel&rsquo\;s Messiah and holiday favorites in Gardnerville. Joyous refrains and exultant arias\, including the iconic &quot\;Hallelujah&quot\; Chorus\, will fill the concert hall this holiday season. This Baroque masterwork\, expressing the themes of hope\, redemption and grace\, showcases the magnificent artistry and skill of our celebrated orchestra and chorus\, complemented by exceptional soloists. Join us for this wonderful holiday tradition!
LOCATION:Carson Valley United Methodist Church 1375 Centerville Lane\, Gardnerville\,
UID:e.820.47095
SEQUENCE:3
DTSTAMP:20260423T182640Z
URL:https://business.carsonvalleynv.org/events/details/tahoe-symphony-presents-messiah-holiday-favorites-47095
END:VEVENT

END:VCALENDAR
