BEGIN:VCALENDAR
VERSION:2.0
PRODID:-//ChamberMaster//Event Calendar 2.0//EN
METHOD:PUBLISH
X-PUBLISHED-TTL:P3D
REFRESH-INTERVAL:P3D
CALSCALE:GREGORIAN
BEGIN:VEVENT
DTSTART:20260110T030000Z
DTEND:20260111T230000Z
X-MICROSOFT-CDO-ALLDAYEVENT:FALSE
SUMMARY:Tahoe Knight Monsters v Utah Grizzlies
DESCRIPTION:Knight Monsters vs. Utah Grizzlies Regular Season Home Games #19\, #20 & #21
X-ALT-DESC;FMTTYPE=text/html:Knight Monsters vs. Utah Grizzlies Regular Season Home Games #19\, #20 &amp\; #21
LOCATION:Tahoe Blue Event Center 75 U.S. 50 Stateline\, Nevada 89449
UID:e.820.46997
SEQUENCE:3
DTSTAMP:20260423T182640Z
URL:https://business.carsonvalleynv.org/events/details/tahoe-knight-monsters-v-utah-grizzlies-46997
END:VEVENT

END:VCALENDAR
