BEGIN:VCALENDAR
VERSION:2.0
PRODID:-//ChamberMaster//Event Calendar 2.0//EN
METHOD:PUBLISH
X-PUBLISHED-TTL:P3D
REFRESH-INTERVAL:P3D
CALSCALE:GREGORIAN
BEGIN:VEVENT
DTSTART:20250913T160000Z
DTEND:20251018T173000Z
X-MICROSOFT-CDO-ALLDAYEVENT:FALSE
SUMMARY:T-Cub Volleyball
DESCRIPTION:Boys and Girls 1st-8th Grades - Improve volleyball skills with Douglas High School Volleyball Players and Coaches. Every Saturday starting September 13 thru October 18\, 2025.
X-ALT-DESC;FMTTYPE=text/html:Boys and Girls 1st-8th Grades - Improve volleyball skills with Douglas High School Volleyball Players and Coaches. Every Saturday starting September 13 thru October 18\, 2025.
LOCATION:Douglas High School Main Gym
UID:e.820.47075
SEQUENCE:3
DTSTAMP:20260423T120958Z
URL:https://business.carsonvalleynv.org/events/details/t-cub-volleyball-47075
END:VEVENT

END:VCALENDAR
