BEGIN:VCALENDAR
VERSION:2.0
PRODID:-//ChamberMaster//Event Calendar 2.0//EN
METHOD:PUBLISH
X-PUBLISHED-TTL:P3D
REFRESH-INTERVAL:P3D
CALSCALE:GREGORIAN
BEGIN:VEVENT
DTSTART:20160602T170000Z
DTEND:20160602T183000Z
X-MICROSOFT-CDO-ALLDAYEVENT:FALSE
SUMMARY:Sutton Hague Law Corporation Presents a Webinar on New DOL Exemption Rules
DESCRIPTION:Join Sutton Hague Law Corporation for a webinar on New DOL Exemption Rules: What Employers need to know beyond the headlines. This webinar will be presented by a panel of attorneys from Sutton Hague Law Corporation\, lead by Senior Partner Brett Sutton. This webinar is perfect for Business and HR professionals seeking to stay informed. Topics include: Interplay of new DOL rules with state and local laws\, duties test issues\, steps to avoid misclassification lawsuits\, strategies for reclassifying from exempt to non-exempt\, and planning for future increases in the exemption amounts. Date: June 2nd. Time: 12:00-1:00 PM. Cost: $45 per line. Register: Online: http://suttonhague.com/events Call: (775)284-2770 or Email: Kaily@suttonhague.com
X-ALT-DESC;FMTTYPE=text/html:Join Sutton Hague Law Corporation for a webinar on New DOL Exemption Rules: What Employers need to know beyond the headlines. This webinar will be presented by a panel of attorneys from Sutton Hague Law Corporation\, lead by Senior Partner Brett Sutton. This webinar is perfect for Business and HR professionals seeking to stay informed. Topics include: Interplay of new DOL rules with state and local laws\, duties test issues\, steps to avoid misclassification lawsuits\, strategies for reclassifying from exempt to non-exempt\, and planning for future increases in the exemption amounts. Date: June 2nd. Time: 12:00-1:00 PM. Cost: $45 per line. Register: Online: http://suttonhague.com/events Call: (775)284-2770 or Email: Kaily@suttonhague.com
LOCATION:This is an online event
UID:e.820.18883
SEQUENCE:3
DTSTAMP:20260423T203004Z
URL:https://business.carsonvalleynv.org/events/details/sutton-hague-law-corporation-presents-a-webinar-on-new-dol-exemption-rules-06-02-2016-18883
END:VEVENT

END:VCALENDAR
