BEGIN:VCALENDAR
VERSION:2.0
PRODID:-//ChamberMaster//Event Calendar 2.0//EN
METHOD:PUBLISH
X-PUBLISHED-TTL:P3D
REFRESH-INTERVAL:P3D
CALSCALE:GREGORIAN
BEGIN:VEVENT
DTSTART:20150810T003000Z
DTEND:20150810T023000Z
X-MICROSOFT-CDO-ALLDAYEVENT:FALSE
SUMMARY:Summer Sunday Concert Series
DESCRIPTION:Summer Sunday Concert Series ~Three concerts\, with quality bands performing on the park's outdoor stage: an opener to warm things up\, and a headline band to keep things hot. Adults $10\, 16 and younger free. Opener at 5:30pm\, headliner at 6:30. Sponsored by Bently Ranch\, SoaringNV\, Dr. James the Dentist\, Joyce's Fine Jewelry\, Carson Valley Times\, Cowboy's Caf \, C.O.D. Casino\, Nevada State Bank\, Pit Stop Pots\, Borges Family Sleigh and Carriage Rides\, Douglas County\, and the Frances C. and William P. Smallwood Foundation.\n\n          June 21: The Nighthawks\, opened by The Scarlet Verbs.\n\n          This concert is funded in part by the Nevada Arts Council\, a state agency\, and the National Endowment for the Arts\, a federal agency.\n\n          July 19: The Mark Sexton Band\, opened by Tynan Phillips\n\n          August 9: The Novelists\, opened by Vanessa Littrell
X-ALT-DESC;FMTTYPE=text/html:<p><strong>Summer Sunday Concert Series </strong>~Three concerts\, with quality bands performing on the park&rsquo\;s outdoor stage: an opener to warm things up\, and a headline band to keep things hot. Adults $10\, 16 and younger free. Opener at 5:30pm\, headliner at 6:30. Sponsored by Bently Ranch\, SoaringNV\, Dr. James the Dentist\, Joyce&rsquo\;s Fine Jewelry\, Carson Valley Times\, Cowboy&rsquo\;s Caf&eacute\;\, C.O.D. Casino\, Nevada State Bank\, Pit Stop Pots\, Borges Family Sleigh and Carriage Rides\, Douglas County\, and the Frances C. and William P. Smallwood Foundation.</p>\n\n<p><em>&nbsp\; &nbsp\; &nbsp\; &nbsp\; &nbsp\;&nbsp\;</em>June 21: The Nighthawks\, opened by The Scarlet Verbs.<br />\n<em>&nbsp\; &nbsp\; &nbsp\; &nbsp\; &nbsp\;&nbsp\;</em>This concert is funded in part by the Nevada Arts Council\, a state agency\, and the National Endowment for the Arts\, a federal agency.</p>\n\n<p><em>&nbsp\; &nbsp\; &nbsp\; &nbsp\; &nbsp\;&nbsp\;</em>July 19: The Mark Sexton Band\, opened by Tynan Phillips</p>\n\n<p><em>&nbsp\; &nbsp\; &nbsp\; &nbsp\; &nbsp\;&nbsp\;</em>August 9: The Novelists\, opened by Vanessa Littrell</p>\n
LOCATION:Dangberg Home Ranch Historic Park 1450 Hwy. 88 Minden\, NV
UID:e.820.12784
SEQUENCE:3
DTSTAMP:20260426T032855Z
URL:https://business.carsonvalleynv.org/events/details/summer-sunday-concert-series-08-09-2015-12784
END:VEVENT

END:VCALENDAR
