BEGIN:VCALENDAR
VERSION:2.0
PRODID:-//ChamberMaster//Event Calendar 2.0//EN
METHOD:PUBLISH
X-PUBLISHED-TTL:P3D
REFRESH-INTERVAL:P3D
CALSCALE:GREGORIAN
BEGIN:VEVENT
DTSTART:20150917T013000Z
DTEND:20150917T023000Z
X-MICROSOFT-CDO-ALLDAYEVENT:FALSE
SUMMARY:Storyteller Tom Wade at Dangberg Historic Park
DESCRIPTION:Storyteller Tom Wade at Dangberg Historic Park \n\nMINDEN\, Nev.   Storyteller Tom Wade  will perform at the Dangberg Home Ranch Historic Park on Wednesday September 16\, at 6:30 pm. The event is open to the public and free to attend.\n\nThe title of Wade's program\, "Jumping Cows\, Snarling Bobcats and Other Farm Adventure Stories\," reflects his background. He grew up on a small farm in Michigan\, the oldest son in a family of ten children\, and honed his storytelling skills at the family dinner table. An energetic teller of mostly-true tales\, Wade's farm and family stories engage and delight people of all ages.\n\nThe park's storytelling events are sponsored by Bently Ranch\, SoaringNV\, Douglas County\, the Record Courier\, Carson Valley Inn and the Frances C. and William P. Smallwood Foundation.\n\nWade is currently a farmer and homestead dairyman with a passion for cooperating with nature.  He has travelled in some of the wilder parts of Africa and Central America as well as throughout the United States.  He now makes his home in Nevada County\, California\, with his wife\, three dogs\, two donkeys and a herd of goats. He is also a regular performer at the Sierra Storytelling Festival.\n\nThis is a free outdoor event. The park is located at 1450 Hwy 88\,   mile north of the Carson Valley Veterinary Hospital. Visitors are encouraged to bring a lawn chair. Dogs are not permitted in the park\, with the exception of certified service animals.
X-ALT-DESC;FMTTYPE=text/html:<strong><span style="font-size: 18pt\;"><span style="font-family: times new roman\,serif\;"><span style="color: black\;">Storyteller Tom Wade at Dangberg Historic Park </span></span></span></strong><br />\n<span style="font-size: medium\;"><span style="font-family: calibri\;"><span style="color: black\;">MINDEN\, Nev.&mdash\;</span><span style="color: black\;"> &nbsp\;Storyteller Tom Wade &nbsp\;will perform at the Dangberg Home Ranch Historic Park on Wednesday September 16\, at 6:30 pm. The event is open to the public and free to attend.</span></span></span><br />\n<span style="color: black\;"><span style="font-size: medium\;"><span style="font-family: calibri\;">The title of Wade&rsquo\;s program\, &quot\;Jumping Cows\, Snarling Bobcats and Other Farm Adventure Stories\,&rdquo\; reflects his background. He grew up on a small farm in Michigan\, the oldest son in a family of ten children\, and honed his storytelling skills at the family dinner table. An energetic teller of mostly-true tales\, Wade&rsquo\;s farm and family stories engage and delight people of all ages.</span></span></span><br />\n<span style="color: black\;"><span style="font-size: medium\;"><span style="font-family: calibri\;">The park&rsquo\;s storytelling events are sponsored by Bently Ranch\, SoaringNV\, Douglas County\, the Record Courier\, Carson Valley Inn and the Frances C. and William P. Smallwood Foundation.</span></span></span><br />\n<span style="color: black\;"><span style="font-size: medium\;"><span style="font-family: calibri\;">Wade is currently a farmer and homestead dairyman with a passion for cooperating with nature.&nbsp\; He has travelled in some of the wilder parts of Africa and Central America as well as throughout the United States.&nbsp\; He now makes his home in Nevada County\, California\, with his wife\, three dogs\, two donkeys and a herd of goats. He is also a regular performer at the Sierra Storytelling Festival.</span></span></span><br />\n<span style="color: black\;"><span style="font-size: medium\;"><span style="font-family: calibri\;">This is a free outdoor event. The park is located at 1450 Hwy 88\, &frac14\; mile north of the Carson Valley Veterinary Hospital. Visitors are encouraged to bring a lawn chair. Dogs are not permitted in the park\, with the exception of certified service animals. </span></span></span><br />\n&nbsp\;
LOCATION:Dangberg Home Ranch Historic Park
UID:e.820.13674
SEQUENCE:3
DTSTAMP:20260426T020624Z
URL:https://business.carsonvalleynv.org/events/details/storyteller-tom-wade-at-dangberg-historic-park-09-16-2015-13674
END:VEVENT

END:VCALENDAR
