BEGIN:VCALENDAR
VERSION:2.0
PRODID:-//ChamberMaster//Event Calendar 2.0//EN
METHOD:PUBLISH
X-PUBLISHED-TTL:P3D
REFRESH-INTERVAL:P3D
CALSCALE:GREGORIAN
BEGIN:VEVENT
DTSTART:20251004T170000Z
DTEND:20251004T190000Z
X-MICROSOFT-CDO-ALLDAYEVENT:FALSE
SUMMARY:StorySongs Presents: Beasts\, Birds\, and Bugs of TNC's River Fork Ranch Preserve
DESCRIPTION:Story Songs Presents:\n\nBeasts\, Birds\, and Bugs of River Fork Ranch\n\nFor all ages & especially families\, come discover through participatory visual & musical storytelling how Carson Valley's rich wetlands influence the lives of its critters. Mark Vollmer & Jim Eaglesmith will inspire you with an interactive photography presentation\, nature walk on a River Fork Ranch trail\, singing along to live music\, and laughing & dancing to rhythms of percussion instruments that the audience creates & takes home!\n\nCOST: Free\; donations welcome!\n\nFor more information: lori.leonard@tnc.org
X-ALT-DESC;FMTTYPE=text/html:Story Songs Presents:<br />\nBeasts\, Birds\, and Bugs of River Fork Ranch<br />\nFor all ages &amp\; especially families\, come discover through participatory visual &amp\; musical storytelling how Carson Valley&#39\;s rich wetlands influence the lives of its critters. Mark Vollmer &amp\; Jim Eaglesmith will inspire you with an interactive photography presentation\, nature walk on a River Fork Ranch trail\, singing along to live music\, and laughing &amp\; dancing to rhythms of percussion instruments that the audience creates &amp\; takes home!<br />\nCOST: Free\; donations welcome!<br />\nFor more information: lori.leonard@tnc.org
LOCATION:The Nature Conservancy's River Fork Ranch Preserve 381 Genoa Lane Minden\, NV 89423
UID:e.820.47084
SEQUENCE:3
DTSTAMP:20260423T140300Z
URL:https://business.carsonvalleynv.org/events/details/storysongs-presents-beasts-birds-and-bugs-of-tnc-s-river-fork-ranch-preserve-47084
END:VEVENT

END:VCALENDAR
