BEGIN:VCALENDAR
VERSION:2.0
PRODID:-//ChamberMaster//Event Calendar 2.0//EN
METHOD:PUBLISH
X-PUBLISHED-TTL:P3D
REFRESH-INTERVAL:P3D
CALSCALE:GREGORIAN
BEGIN:VEVENT
DTSTART:20250906T170000Z
DTEND:20250906T210000Z
X-MICROSOFT-CDO-ALLDAYEVENT:FALSE
SUMMARY:Statement Ring Class
DESCRIPTION:In this class\, you will learn how to create your own statement ring.\n\nSelect a stone from a variety of options. Nevada shaped stones are also an option. Craft the perfect setting for your chosen stone.  Add decorative wire and a patterned ring band to make a custom creation as unique as you are. \n\nTechniques we will cover: bezel-making\, soldering\, ring making\, sawing\, oxidation\, polishing\, and stone setting. \n\nPrevious silversmithing experience is not necessary. \n\nAll materials\, supplies\, and charcuterie included. \n\n \n\nInstructor Carly Strauss of NV US Silver Works
X-ALT-DESC;FMTTYPE=text/html:<p style="text-align:initial">In this class\, you will learn how to create your own statement ring.<br />\n<span style="text-align:initial">Select a stone from a variety of options.&nbsp\;Nevada shaped stones are also an option. Craft the perfect setting for your chosen stone.&nbsp\; Add decorative wire and a patterned ring band to make a custom creation as unique as you are.&nbsp\;</span><br />\n<span style="text-align:initial">Techniques we will cover: bezel-making\, soldering\, ring making\, sawing\, oxidation\, polishing\, and stone setting.&nbsp\;</span><br />\n<span style="text-align:initial">Previous silversmithing experience is not necessary.&nbsp\;</span></p>\n\n<p style="text-align:initial"><span style="text-align:initial">All materials\, supplies\, and charcuterie included.&nbsp\;</span></p>\n\n<div style="text-align:initial">&nbsp\;</div>\n\n<p style="text-align:initial">Instructor Carly Strauss of NV US Silver Works</p>\n
LOCATION:HelloHandmade
UID:e.820.47020
SEQUENCE:3
DTSTAMP:20260423T120547Z
URL:https://business.carsonvalleynv.org/events/details/statement-ring-class-47020
END:VEVENT

END:VCALENDAR
