BEGIN:VCALENDAR
VERSION:2.0
PRODID:-//ChamberMaster//Event Calendar 2.0//EN
METHOD:PUBLISH
X-PUBLISHED-TTL:P3D
REFRESH-INTERVAL:P3D
CALSCALE:GREGORIAN
BEGIN:VEVENT
DTSTART:20250906T220000Z
DTEND:20250907T020000Z
X-MICROSOFT-CDO-ALLDAYEVENT:FALSE
SUMMARY:Statement Necklace Class
DESCRIPTION:In this class\, you will learn how to create your own statement pendant.\n\nSelect a stone from a variety of options\, including Nevada shaped stones.  Craft the perfect setting for your chosen stone.  Add decorative wire to make a custom creation as unique as you are. \n\nTechniques we will cover: bezel-making\, soldering\, oxidation\, polishing\, and stone setting. \n\nPrevious silversmithing experience is not necessary. \n\nAll materials\, supplies\, and chain of your choice\, and charcuterie included. \n\nInstructor Clary Strauss of NV US Silver Works
X-ALT-DESC;FMTTYPE=text/html:<p style="text-align:initial">In this class\, you will learn how to create your own statement pendant.<br />\n<span style="text-align:initial">Select a stone from a variety of options\, including Nevada shaped stones.&nbsp\; Craft the perfect setting for your chosen stone.&nbsp\; Add decorative wire to make a custom creation as unique as you are.&nbsp\;</span><br />\n<span style="text-align:initial">Techniques we will cover: bezel-making\, soldering\, oxidation\, polishing\, and stone setting.&nbsp\;</span><br />\n<span style="text-align:initial">Previous silversmithing experience is not necessary.&nbsp\;</span><br />\n<span style="text-align:initial">All materials\, supplies\, and chain of your choice\, and charcuterie included.&nbsp\;</span></p>\n\n<div style="text-align:initial"><span style="text-align:initial">Instructor Clary Strauss of NV US Silver Works</span></div>\n
LOCATION:HelloHandmade
UID:e.820.47021
SEQUENCE:3
DTSTAMP:20260423T120721Z
URL:https://business.carsonvalleynv.org/events/details/statement-necklace-class-47021
END:VEVENT

END:VCALENDAR
