BEGIN:VCALENDAR
VERSION:2.0
PRODID:-//ChamberMaster//Event Calendar 2.0//EN
METHOD:PUBLISH
X-PUBLISHED-TTL:P3D
REFRESH-INTERVAL:P3D
CALSCALE:GREGORIAN
BEGIN:VEVENT
DTSTART:20250913T010000Z
DTEND:20250913T030000Z
X-MICROSOFT-CDO-ALLDAYEVENT:FALSE
SUMMARY:Starbucks Carson Valley Roasting Plant & Distribution Center 2025 Summer Concert Series
DESCRIPTION:Grab your go-to picnic blanket and head to Minden Park for this free concert! Brought to you by the Douglas County Parks and Recreation Department in partnership with Town of Minden\, the Starbucks Carson Valley Roasting Plant & Distribution Center Summer Concert Series features a lineup of local and touring musicians\, plus vendors and more! The concerts will take place in the park from 6:00pm-8:00pm. The current lineup is as follows: June 20   The Urban Renewal Project (Jazz\, Hip-hop\, Vintage Soul) July 11   Gruve Nation (Motown\, Blues & Funk) August 8   Beatles Flashback (Beatles Tribute) August 29   Cripple Creek Band (Country\, Americana\, Bluegrass\, Southern Rock) September 12   Miki Rae & The Hooligans (Reggae) For more information visit Parks and Rec's official website. Bring your friends and family along and enjoy a beautiful summer evening of live music!
X-ALT-DESC;FMTTYPE=text/html:Grab your go-to picnic blanket and head to Minden Park for this free concert! Brought to you by the Douglas County Parks and Recreation Department in partnership with Town of Minden\, the Starbucks Carson Valley Roasting Plant &amp\; Distribution Center Summer Concert Series features a lineup of local and touring musicians\, plus vendors and more! The concerts will take place in the park from 6:00pm-8:00pm. The current lineup is as follows: June 20 &ndash\; The Urban Renewal Project (Jazz\, Hip-hop\, Vintage Soul) July 11 &ndash\; Gruve Nation (Motown\, Blues &amp\; Funk) August 8 &ndash\; Beatles Flashback (Beatles Tribute) August 29 &ndash\; Cripple Creek Band (Country\, Americana\, Bluegrass\, Southern Rock) September 12 &ndash\; Miki Rae &amp\; The Hooligans (Reggae) For more information visit Parks and Rec&rsquo\;s official website. Bring your friends and family along and enjoy a beautiful summer evening of live music!
LOCATION:Minden Park 1610 Esmeralda Ave. Minden\, NV 89423
UID:e.820.46788
SEQUENCE:3
DTSTAMP:20260423T135714Z
URL:https://business.carsonvalleynv.org/events/details/starbucks-carson-valley-roasting-plant-distribution-center-2025-summer-concert-series-09-12-2025-46788
END:VEVENT

END:VCALENDAR
