BEGIN:VCALENDAR
VERSION:2.0
PRODID:-//ChamberMaster//Event Calendar 2.0//EN
METHOD:PUBLISH
X-PUBLISHED-TTL:P3D
REFRESH-INTERVAL:P3D
CALSCALE:GREGORIAN
BEGIN:VEVENT
DTSTART:20170421T230000Z
DTEND:20170422T020000Z
X-MICROSOFT-CDO-ALLDAYEVENT:FALSE
SUMMARY:Spring Used Book Sale ~ Friends-Only Preview Sale
DESCRIPTION:The Douglas County Public Library Foundation and the Friends of the Douglas County Public Library invite you to their spring book sale The first day of the used book sale is a Members-Only preview sale for Friends of the Library. You are welcome to join the Friends at the door to take advantage of this special sale.
X-ALT-DESC;FMTTYPE=text/html:The Douglas County Public Library Foundation and the Friends of the Douglas County Public Library invite you to their spring book sale The first day of the used book sale is a Members-Only preview sale for Friends of the Library. You are welcome to join the Friends at the door to take advantage of this special sale.
LOCATION:C.V.I.C. Hall 1602 Esmeralda Avenue Minden\, NV 89423
UID:e.820.24677
SEQUENCE:3
DTSTAMP:20260420T121655Z
URL:https://business.carsonvalleynv.org/events/details/spring-used-book-sale-friends-only-preview-sale-24677
END:VEVENT

END:VCALENDAR
