BEGIN:VCALENDAR
VERSION:2.0
PRODID:-//ChamberMaster//Event Calendar 2.0//EN
METHOD:PUBLISH
X-PUBLISHED-TTL:P3D
REFRESH-INTERVAL:P3D
CALSCALE:GREGORIAN
BEGIN:VEVENT
DTSTART:20160416T180000Z
DTEND:20160416T230000Z
X-MICROSOFT-CDO-ALLDAYEVENT:FALSE
SUMMARY:Spring Luncheon Fashion Show & Expo
DESCRIPTION:St. Gall Women's Society hosts the\n\nAnnual Shop Spring Luncheon\, Fashion Show & Expo\n\nExpo vendors for shopping before and after show\n\nLunch & Fashions from Chico's in Reno
X-ALT-DESC;FMTTYPE=text/html:St. Gall Women&#39\;s Society hosts the<br />\nAnnual Shop Spring Luncheon\, Fashion Show &amp\; Expo<br />\nExpo vendors for shopping before and after show<br />\nLunch &amp\; Fashions from Chico&#39\;s in Reno
LOCATION:Carson City Nugget 507 Carson Street Carson City
UID:e.820.18723
SEQUENCE:3
DTSTAMP:20260425T140803Z
URL:https://business.carsonvalleynv.org/events/details/spring-luncheon-fashion-show-expo-04-16-2016-18723
END:VEVENT

END:VCALENDAR
