BEGIN:VCALENDAR
VERSION:2.0
PRODID:-//ChamberMaster//Event Calendar 2.0//EN
METHOD:PUBLISH
X-PUBLISHED-TTL:P3D
REFRESH-INTERVAL:P3D
CALSCALE:GREGORIAN
BEGIN:VEVENT
DTSTART:20251025T180000Z
DTEND:20251025T210000Z
X-MICROSOFT-CDO-ALLDAYEVENT:FALSE
SUMMARY:Spooktacular Public Health Fair
DESCRIPTION:MEET THE COMMUNITY AGENCIES THAT KEEP OUR MINDS AND BODIES HEALTHY!!! Free lunch and raffle prizes. Costumes encouraged!!
X-ALT-DESC;FMTTYPE=text/html:MEET THE COMMUNITY AGENCIES THAT KEEP OUR MINDS AND BODIES HEALTHY!!! Free lunch and raffle prizes. Costumes encouraged!!
LOCATION:Douglas County Senior Center 1329 Waterloo Lane\, Gardnerville
UID:e.820.47073
SEQUENCE:3
DTSTAMP:20260423T135112Z
URL:https://business.carsonvalleynv.org/events/details/spooktacular-public-health-fair-47073
END:VEVENT

END:VCALENDAR
