BEGIN:VCALENDAR
VERSION:2.0
PRODID:-//ChamberMaster//Event Calendar 2.0//EN
METHOD:PUBLISH
X-PUBLISHED-TTL:P3D
REFRESH-INTERVAL:P3D
CALSCALE:GREGORIAN
BEGIN:VEVENT
DTSTART;VALUE=DATE:20150814
DTEND;VALUE=DATE:20150817
TRANSP:TRANSPARENT
X-MICROSOFT-CDO-ALLDAYEVENT:TRUE
SUMMARY:Splash Dogs at Heritage Park
DESCRIPTION:The fun of Splash Dogs returns to Heritage Park in Gardnerville!\n\n\n\nDogs of all breeds will be training and competing for three days...No charge to come and watch\, it's an ideal event for the whole family!!!\n\n\n\n \nNew dogs only practice:\n\nFriday 7:00 pm-9:00 pm\, Saturday 8:00 am-10:00 am\,\n\nSunday 8:00 am-9:00 am. \n \n\nCompetition jumps: \n\nFriday: 3:00 pm and 5:00 pm \n\nSaturday: 11:00 am\, 1:00 pm\, 3:00 pm\, 5:00 pm and\n\n7:00 pm Super Retrieve \n\nSunday: 9:00 am Super Vertical\, 11:00 am\, 1:00 pm\, and 3:00 pm Finals
X-ALT-DESC;FMTTYPE=text/html:The fun of Splash Dogs returns to Heritage Park in Gardnerville!<br />\n<br />\nDogs of all breeds will be training and competing for three days...No charge to come and watch\, it&#39\;s an ideal event for the whole family!!!<br />\n<br />\n&nbsp\;\n<div style="text-align: center\;"><span style="color:black\;"><span style="font-family:arial\,sans-serif\;"><strong>New dogs only practice</strong>:<br />\n<strong>Friday</strong> 7:00 pm-9:00 pm\, <strong>Saturday </strong>8:00 am-10:00 am\,<br />\n<strong>Sunday</strong> 8:00 am-9:00 am. </span></span></div>\n&nbsp\;\n\n<div style="text-align: center\;"><strong><span style="color:black\;"><span style="font-family:arial\,sans-serif\;">Competition jumps: </span></span></strong><br />\n<span style="color:black\;"><span style="font-family:arial\,sans-serif\;"><strong>Friday</strong>: 3:00 pm and 5:00 pm </span></span><br />\n<span style="color:black\;"><span style="font-family:arial\,sans-serif\;"><strong>Saturday</strong>: 11:00 am\, 1:00 pm\, 3:00 pm\, 5:00 pm and<br />\n7:00 pm Super Retrieve </span></span><br />\n<span style="color:black\;"><span style="font-family:arial\,sans-serif\;"><strong>Sunday</strong>: 9:00 am Super Vertical\, 11:00 am\, 1:00 pm\, and 3:00 pm Finals </span></span></div>\n
LOCATION:Heritage Park - Gardnerville
UID:e.820.13179
SEQUENCE:3
DTSTAMP:20260426T032724Z
URL:https://business.carsonvalleynv.org/events/details/splash-dogs-at-heritage-park-08-14-2015-13179
END:VEVENT

END:VCALENDAR
