BEGIN:VCALENDAR
VERSION:2.0
PRODID:-//ChamberMaster//Event Calendar 2.0//EN
METHOD:PUBLISH
X-PUBLISHED-TTL:P3D
REFRESH-INTERVAL:P3D
CALSCALE:GREGORIAN
BEGIN:VEVENT
DTSTART:20150913T190000Z
DTEND:20150913T233000Z
X-MICROSOFT-CDO-ALLDAYEVENT:FALSE
SUMMARY:Sertoma Octoberfest
DESCRIPTION:Featuring the Gruber Family Band\, with their fine poloka and festive sounds. German sausages from the Sausage Factory\, sauerkraut\, German potato salad and apple strudel\, plus a variety of specialty craft beers will be available for sale. Music starts at 12 noon and continues until 4:30 PM. Free admission. Music\, dancing\, food\, beverages and a group of specially selected crafters.
X-ALT-DESC;FMTTYPE=text/html:Featuring the Gruber Family Band\, with their fine poloka and festive sounds. German sausages from the Sausage Factory\, sauerkraut\, German potato salad and apple strudel\, plus a variety of specialty craft beers will be available for sale. Music starts at 12 noon and continues until 4:30 PM. Free admission. Music\, dancing\, food\, beverages and a group of specially selected crafters.
LOCATION:Heritage Park\, Gardnerville
UID:e.820.13663
SEQUENCE:3
DTSTAMP:20260426T014807Z
URL:https://business.carsonvalleynv.org/events/details/sertoma-octoberfest-09-13-2015-13663
END:VEVENT

END:VCALENDAR
