BEGIN:VCALENDAR
VERSION:2.0
PRODID:-//ChamberMaster//Event Calendar 2.0//EN
METHOD:PUBLISH
X-PUBLISHED-TTL:P3D
REFRESH-INTERVAL:P3D
CALSCALE:GREGORIAN
BEGIN:VEVENT
DTSTART:20250918T230000Z
DTEND:20250921T230000Z
X-MICROSOFT-CDO-ALLDAYEVENT:FALSE
SUMMARY:September Pop-up at Eddy Street Vintage Market
DESCRIPTION:Join us for our September Pop-up!
X-ALT-DESC;FMTTYPE=text/html:Join us for our September Pop-up!
LOCATION:Eddy Street Vintage Market 1235 Eddy Street\, Gardnerville\, NV\, 89410
UID:e.820.46107
SEQUENCE:3
DTSTAMP:20260423T135750Z
URL:https://business.carsonvalleynv.org/events/details/september-pop-up-at-eddy-street-vintage-market-46107
END:VEVENT

END:VCALENDAR
