BEGIN:VCALENDAR
VERSION:2.0
PRODID:-//ChamberMaster//Event Calendar 2.0//EN
METHOD:PUBLISH
X-PUBLISHED-TTL:P3D
REFRESH-INTERVAL:P3D
CALSCALE:GREGORIAN
BEGIN:VEVENT
DTSTART:20160917T154500Z
DTEND:20160917T223000Z
X-MICROSOFT-CDO-ALLDAYEVENT:FALSE
SUMMARY:Sand Harbor Overlook on the Tahoe Rim Trail tours
DESCRIPTION:Sand Harbor Overlook on the Tahoe Rim Trail tours\n\n \n\nLAKE TAHOE\, Nev.   Join Nevada State Parks for a ranger-led hike to the Sand Harbor Overlook of the Tahoe Rim Trail on Saturday\, September 17. We'll meet at Spooner Lake at 8:45 a.m. and carpool to the Marlette Peak Campground. From there we'll hike 2 miles to the overlook. The magnificent views from the top stretch across the sparkling waters of Lake Tahoe and jagged peaks of the high sierra.\n\n \n\nThis is a moderate hike (4 miles total) so come prepared with sturdy boots\, sunscreen\, lunch\, drinks or snacks and dress for the forecasted weather. Children eight years of age and older are welcome. 4WD is necessary and reservations are required by calling 775-831-0494. To minimize the number of vehicles\, please let us know if you're willing to take other passengers. The hike is free\, but any donations to the park are greatly appreciated. \n\n \n\nWHEN: Saturday\, September 17\, 9 a.m.   3:30 p.m.\n\n \n\nWHERE: Spooner Lake State Park\, on highway 28 just north of US-50.\n\n \n\nCOST: Event is free\; however park entry fees apply per vehicle: $8 for Nevada residents\, $10 for non-residents.\n\n \n\nCONTACT: Jay Howard\, 775-831-0494\, tahoesp@hughes.net
X-ALT-DESC;FMTTYPE=text/html:<strong><span style="font-size: 16pt\;"><span style="font-family: times new roman\,serif\;">Sand Harbor Overlook on the Tahoe Rim Trail tours</span></span></strong><br />\n&nbsp\;<br />\n<span style="font-family: times new roman\,serif\;"><span style="font-size: medium\;">LAKE TAHOE\, Nev. &ndash\; Join Nevada State Parks for a ranger-led hike to the Sand Harbor Overlook of the Tahoe Rim Trail on Saturday\, September 17. We&rsquo\;ll meet at Spooner Lake at 8:45 a.m. and carpool to the Marlette Peak Campground. From there we&rsquo\;ll hike 2 miles to the overlook. The magnificent views from the top stretch across the sparkling waters of Lake Tahoe and jagged peaks of the high sierra.</span></span><br />\n&nbsp\;<br />\n<span style="font-family: times new roman\,serif\;"><span style="font-size: medium\;">This is a moderate hike (4 miles total) so come prepared with sturdy boots\, sunscreen\, lunch\, drinks or snacks and dress for the forecasted weather. Children eight years of age and older are welcome. 4WD is necessary and reservations are required by calling 775-831-0494. To minimize the number of vehicles\, please let us know if you&rsquo\;re willing to take other passengers. The hike is free\, but any donations to the park are greatly appreciated. </span></span><br />\n&nbsp\;<br />\n<span style="font-size: medium\;"><strong><span style="font-family: times new roman\,serif\;">WHEN:</span></strong><span style="font-family: times new roman\,serif\;"> Saturday\, September 17\, 9 a.m. &ndash\; 3:30 p.m.</span></span><br />\n&nbsp\;<br />\n<span style="font-size: medium\;"><strong><span style="font-family: times new roman\,serif\;">WHERE: </span></strong><span style="font-family: times new roman\,serif\;">Spooner Lake State Park\, on highway 28 just north of US-50.</span></span><br />\n&nbsp\;<br />\n<span style="font-size: medium\;"><strong><span style="font-family: times new roman\,serif\;">COST: </span></strong><span style="font-family: times new roman\,serif\;">Event is free\; however park entry fees apply per vehicle: $8 for Nevada residents\, $10 for non-residents.</span></span><br />\n&nbsp\;<br />\n<span style="font-size: medium\;"><strong><span style="font-family: times new roman\,serif\;">CONTACT: </span></strong><span style="font-family: times new roman\,serif\;">Jay Howard\, 775-831-0494\, <a>tahoesp@hughes.net</a></span></span><br />\n&nbsp\;
LOCATION:
UID:e.820.20735
SEQUENCE:3
DTSTAMP:20260423T154510Z
URL:https://business.carsonvalleynv.org/events/details/sand-harbor-overlook-on-the-tahoe-rim-trail-tours-20735
END:VEVENT

END:VCALENDAR
