BEGIN:VCALENDAR
VERSION:2.0
PRODID:-//ChamberMaster//Event Calendar 2.0//EN
METHOD:PUBLISH
X-PUBLISHED-TTL:P3D
REFRESH-INTERVAL:P3D
CALSCALE:GREGORIAN
BEGIN:VEVENT
DTSTART:20260115T080000Z
DTEND:20260115T213000Z
X-MICROSOFT-CDO-ALLDAYEVENT:FALSE
SUMMARY:Rotary Club of Minden
DESCRIPTION:Weekly meeting of the Rotary Club of Minden
X-ALT-DESC;FMTTYPE=text/html:Weekly meeting of the Rotary Club of Minden
LOCATION:
UID:e.820.42017
SEQUENCE:3
DTSTAMP:20260423T200818Z
URL:https://business.carsonvalleynv.org/events/details/rotary-club-of-minden-01-15-2026-42017
END:VEVENT

END:VCALENDAR
