BEGIN:VCALENDAR
VERSION:2.0
PRODID:-//ChamberMaster//Event Calendar 2.0//EN
METHOD:PUBLISH
X-PUBLISHED-TTL:P3D
REFRESH-INTERVAL:P3D
CALSCALE:GREGORIAN
BEGIN:VEVENT
DTSTART:20150917T213000Z
DTEND:20150917T223000Z
X-MICROSOFT-CDO-ALLDAYEVENT:FALSE
SUMMARY:Red Cross Family Caregiving Class
DESCRIPTION:The purpose of this class is to inform caregivers how to care for a loved one suffering from Alzheimer's disease or dementia\, as well as to handle common behaviors associated with the disease.\n\nObjective:   Understand and know how to deal with common behaviors associated with Alzheimer's disease or dementia.\n\nProvide care for a loved one including daily activities such as personal care.\n\nRecognize the signs of depression and understand the person who cares for someone with Alzheimer's disease or dementia is at risk for depression.
X-ALT-DESC;FMTTYPE=text/html:The purpose of this class is to inform caregivers how to care for a loved one suffering from Alzheimer&#39\;s disease or dementia\, as well as to handle common behaviors associated with the disease.<br />\nObjective:&nbsp\; &nbsp\;Understand and know how to deal with common behaviors associated with Alzheimer&#39\;s disease or dementia.<br />\nProvide care for a loved one including daily activities such as personal care.<br />\nRecognize the signs of depression and understand the person who cares for someone with Alzheimer&#39\;s disease or dementia is at risk for depression.<br />\n&nbsp\;
LOCATION:No Place Like Home Senior Care Office at 1394 US Highway 395 N\, Gardnerville\, NV 89410
UID:e.820.13667
SEQUENCE:3
DTSTAMP:20260426T020501Z
URL:https://business.carsonvalleynv.org/events/details/red-cross-family-caregiving-class-09-17-2015-13667
END:VEVENT

END:VCALENDAR
