BEGIN:VCALENDAR
VERSION:2.0
PRODID:-//ChamberMaster//Event Calendar 2.0//EN
METHOD:PUBLISH
X-PUBLISHED-TTL:P3D
REFRESH-INTERVAL:P3D
CALSCALE:GREGORIAN
BEGIN:VEVENT
DTSTART:20250924T010000Z
DTEND:20250924T023000Z
X-MICROSOFT-CDO-ALLDAYEVENT:FALSE
SUMMARY:PTSD Support Group
DESCRIPTION:We invite you to our facilitated sessions that include time for sharing and focuses on healing using activities\, coping skills\, and tools to help you take that first step toward a more peaceful life ... one you deserve! Meets the 2nd and 4th Tuesday of the month from 6:00-7:30 pm at the SPN Office. FREE of charge and open to 18+.
X-ALT-DESC;FMTTYPE=text/html:We invite you to our facilitated sessions that include time for sharing and focuses on healing using activities\, coping skills\, and tools to help you take that first step toward a more peaceful life ... one you deserve! Meets the 2nd and 4th Tuesday of the month from 6:00-7:30 pm at the SPN Office. FREE of charge and open to 18+.
LOCATION:SPN Office 1625 State Route 88\, Suite 101 Minden\, NV
UID:e.820.46353
SEQUENCE:3
DTSTAMP:20260423T120906Z
URL:https://business.carsonvalleynv.org/events/details/ptsd-support-group-09-25-2025-46353
END:VEVENT

END:VCALENDAR
