BEGIN:VCALENDAR
VERSION:2.0
PRODID:-//ChamberMaster//Event Calendar 2.0//EN
METHOD:PUBLISH
X-PUBLISHED-TTL:P3D
REFRESH-INTERVAL:P3D
CALSCALE:GREGORIAN
BEGIN:VEVENT
DTSTART:20150925T003000Z
DTEND:20150925T020000Z
X-MICROSOFT-CDO-ALLDAYEVENT:FALSE
SUMMARY:Presentation & Book Signing at the Blue Brick Gallery
DESCRIPTION:Please join us for a presentation and book signing.\n\nJulie Freestone and Rudi Raab wrote Stumbling Stone\, a work of fiction inspired by their extraordinary histories.\n\n\n\nWine & Cheese will be served
X-ALT-DESC;FMTTYPE=text/html:Please join us for a presentation and book signing.<br />\nJulie Freestone and Rudi Raab wrote Stumbling Stone\, a work of fiction inspired by their extraordinary histories.<br />\n<br />\nWine &amp\; Cheese will be served
LOCATION:Blue Brick Gallery 1615 US Hwy 395 N. Minden
UID:e.820.13677
SEQUENCE:3
DTSTAMP:20260426T020313Z
URL:https://business.carsonvalleynv.org/events/details/presentation-book-signing-at-the-blue-brick-gallery-09-24-2015-13677
END:VEVENT

END:VCALENDAR
