BEGIN:VCALENDAR
VERSION:2.0
PRODID:-//ChamberMaster//Event Calendar 2.0//EN
METHOD:PUBLISH
X-PUBLISHED-TTL:P3D
REFRESH-INTERVAL:P3D
CALSCALE:GREGORIAN
BEGIN:VEVENT
DTSTART:20250920T230000Z
DTEND:20250921T020000Z
X-MICROSOFT-CDO-ALLDAYEVENT:FALSE
SUMMARY:Porch Movement Block Party
DESCRIPTION:Community Block Party Live Music\, Food Trucks\, Vendors\, Kid Zone\, 50/50 Raffle\, and more.
X-ALT-DESC;FMTTYPE=text/html:Community Block Party Live Music\, Food Trucks\, Vendors\, Kid Zone\, 50/50 Raffle\, and more.
LOCATION:James Lee Park\, (Indian Hills)
UID:e.820.46950
SEQUENCE:3
DTSTAMP:20260423T134354Z
URL:https://business.carsonvalleynv.org/events/details/porch-movement-block-party-46950
END:VEVENT

END:VCALENDAR
