BEGIN:VCALENDAR
VERSION:2.0
PRODID:-//ChamberMaster//Event Calendar 2.0//EN
METHOD:PUBLISH
X-PUBLISHED-TTL:P3D
REFRESH-INTERVAL:P3D
CALSCALE:GREGORIAN
BEGIN:VEVENT
DTSTART:20150822T170000Z
DTEND:20150822T220000Z
X-MICROSOFT-CDO-ALLDAYEVENT:FALSE
SUMMARY:Poker Run-Fundraiser for Safe Haven Animal Rescue
DESCRIPTION:Poker Run - Fundraiser for Safe Haven Animal Rescue in Yerington.  The Poker Run will start and end at Jethros on Kimmerling in Gardnerville.  Stops will be at the Genoa Bar\, the Markleeville Bar\, Iggy and Squiggies in Holbrook junction\, and Hamdogs on 395 in Gardnerville.
X-ALT-DESC;FMTTYPE=text/html:Poker Run - Fundraiser for Safe Haven Animal Rescue in Yerington.&nbsp\; The Poker Run will start and end at Jethros on Kimmerling in Gardnerville.&nbsp\; Stops will be at the Genoa Bar\, the Markleeville Bar\, Iggy and Squiggies in Holbrook junction\, and Hamdogs on 395 in Gardnerville.
LOCATION:
UID:e.820.12635
SEQUENCE:3
DTSTAMP:20260426T032930Z
URL:https://business.carsonvalleynv.org/events/details/poker-run-fundraiser-for-safe-haven-animal-rescue-08-22-2015-12635
END:VEVENT

END:VCALENDAR
