BEGIN:VCALENDAR
VERSION:2.0
PRODID:-//ChamberMaster//Event Calendar 2.0//EN
METHOD:PUBLISH
X-PUBLISHED-TTL:P3D
REFRESH-INTERVAL:P3D
CALSCALE:GREGORIAN
BEGIN:VEVENT
DTSTART:20160514T170000Z
DTEND:20160515T210000Z
X-MICROSOFT-CDO-ALLDAYEVENT:FALSE
SUMMARY:Plant Sale at Douglas Highschool
DESCRIPTION:DHS Ag Dept presents the FFA plant sale\n\n More variety and plants this year then ever!! They've Grown...
X-ALT-DESC;FMTTYPE=text/html:<div style="text-align: center\;">\n<div style="text-align: center\;"><span style="font-size: 20px\;"><span style="font-family: comic sans ms\;">DHS Ag Dept presents the FFA plant sale<br />\n&nbsp\;More variety and plants this year then ever!! They&#39\;ve Grown...</span></span></div>\n</div>\n
LOCATION:Douglas High School
UID:e.820.18868
SEQUENCE:3
DTSTAMP:20260423T221913Z
URL:https://business.carsonvalleynv.org/events/details/plant-sale-at-douglas-highschool-05-14-2016-18868
END:VEVENT

END:VCALENDAR
