BEGIN:VCALENDAR
VERSION:2.0
PRODID:-//ChamberMaster//Event Calendar 2.0//EN
METHOD:PUBLISH
X-PUBLISHED-TTL:P3D
REFRESH-INTERVAL:P3D
CALSCALE:GREGORIAN
BEGIN:VEVENT
DTSTART:20150801T200000Z
DTEND:20150802T000000Z
X-MICROSOFT-CDO-ALLDAYEVENT:FALSE
SUMMARY:Pizza Factory Grand Re-Opening Event
DESCRIPTION:The Pizza Factory is having it's Grand Re-Opening Event.\n\n\n\nRibbon Cutting at 1
X-ALT-DESC;FMTTYPE=text/html:The Pizza Factory is having it&#39\;s Grand Re-Opening Event.<br />\n<br />\nRibbon Cutting at 1
LOCATION:Pizza Factory Minden (Ironwood Center)
UID:e.820.13182
SEQUENCE:3
DTSTAMP:20260426T033015Z
URL:https://business.carsonvalleynv.org/events/details/pizza-factory-grand-re-opening-event-08-01-2015-13182
END:VEVENT

END:VCALENDAR
