BEGIN:VCALENDAR
VERSION:2.0
PRODID:-//ChamberMaster//Event Calendar 2.0//EN
METHOD:PUBLISH
X-PUBLISHED-TTL:P3D
REFRESH-INTERVAL:P3D
CALSCALE:GREGORIAN
BEGIN:VEVENT
DTSTART:20250904T183000Z
DTEND:20250904T200000Z
X-MICROSOFT-CDO-ALLDAYEVENT:FALSE
SUMMARY:Peer Support - Suicide Loss Support Group
DESCRIPTION:Starting January 2nd\, 2025\, we invite you to get connected with others in the community. Come listen\, share\, and receive support from peers who are traveling a similar path. Meets the 1st Thursday of the month from 11:30am-1pm at the SPN Office. FREE of charge and open to 18+. Snacks and refreshments provided
X-ALT-DESC;FMTTYPE=text/html:Starting January 2nd\, 2025\, we invite you to get connected with others in the community. Come listen\, share\, and receive support from peers who are traveling a similar path. Meets the 1st Thursday of the month from 11:30am-1pm at the SPN Office. FREE of charge and open to 18+. Snacks and refreshments provided
LOCATION:SPN Office 1625 State Route 88\, Suite 101 Minden\, NV
UID:e.820.46342
SEQUENCE:3
DTSTAMP:20260423T120957Z
URL:https://business.carsonvalleynv.org/events/details/peer-support-suicide-loss-support-group-09-04-2025-46342
END:VEVENT

END:VCALENDAR
