BEGIN:VCALENDAR
VERSION:2.0
PRODID:-//ChamberMaster//Event Calendar 2.0//EN
METHOD:PUBLISH
X-PUBLISHED-TTL:P3D
REFRESH-INTERVAL:P3D
CALSCALE:GREGORIAN
BEGIN:VEVENT
DTSTART:20260426T180000Z
DTEND:20260426T200000Z
X-MICROSOFT-CDO-ALLDAYEVENT:FALSE
SUMMARY:Park Home Ranch Wedding Open House
DESCRIPTION:Join Park Home Ranch for their wedding open house event. Prospective brides / grooms interested in having their wedding at the ranch in 2026 or 2027 are invited to tour the venue and meet with preferred local vendors.
X-ALT-DESC;FMTTYPE=text/html:Join Park Home Ranch for their wedding open house event. Prospective brides / grooms interested in having their wedding at the ranch in 2026 or 2027 are invited to tour the venue and meet with preferred local vendors.
LOCATION:Park Home Ranch\, 1452 Hwy 88\, Minden\, NV 89423
UID:e.820.47330
SEQUENCE:3
DTSTAMP:20260424T193031Z
URL:https://business.carsonvalleynv.org/events/details/park-home-ranch-wedding-open-house-04-26-2026-47330
END:VEVENT

END:VCALENDAR
