BEGIN:VCALENDAR
VERSION:2.0
PRODID:-//ChamberMaster//Event Calendar 2.0//EN
METHOD:PUBLISH
X-PUBLISHED-TTL:P3D
REFRESH-INTERVAL:P3D
CALSCALE:GREGORIAN
BEGIN:VEVENT
DTSTART:20251011T150000Z
DTEND:20251011T173000Z
X-MICROSOFT-CDO-ALLDAYEVENT:FALSE
SUMMARY:OCTOBER BIG DAY - Bird Walk
DESCRIPTION:Join us at The Nature Conservancy's River Fork Ranch Preserve to participate in the OCTOBER BIG DAY - global bird monitoring event!  The walk will begin at 8am sharp with birding guide\, Doug Stinson. Bring your binoculars!\n\n\n\nFor more information on how you can participate in the October Big Day 2025\, go to: https://ebird.org/news/october-big-day-2025
X-ALT-DESC;FMTTYPE=text/html:Join us at The Nature Conservancy&#39\;s River Fork Ranch Preserve to participate in the OCTOBER BIG DAY - global bird monitoring event!&nbsp\; The walk will begin at 8am sharp with birding guide\, Doug Stinson. Bring your binoculars!<br />\n<br />\nFor more information on how you can participate in the October Big Day 2025\, go to: https://ebird.org/news/october-big-day-2025
LOCATION:The Nature Conservancy's River Fork Ranch Preserve 381 Genoa Lane Minden\, NV 89423
UID:e.820.47086
SEQUENCE:3
DTSTAMP:20260423T152210Z
URL:https://business.carsonvalleynv.org/events/details/october-big-day-bird-walk-47086
END:VEVENT

END:VCALENDAR
