BEGIN:VCALENDAR
VERSION:2.0
PRODID:-//ChamberMaster//Event Calendar 2.0//EN
METHOD:PUBLISH
X-PUBLISHED-TTL:P3D
REFRESH-INTERVAL:P3D
CALSCALE:GREGORIAN
BEGIN:VEVENT
DTSTART:20160427T160000Z
DTEND:20160427T190000Z
X-MICROSOFT-CDO-ALLDAYEVENT:FALSE
SUMMARY:NV Energy: 2016 Carson City Energy Summit
DESCRIPTION:You're invited to join NV Energy's commercial energy services team at the Carson City Energy Summit. It's free to attend. Technical advisors will be on-hand to discuss how our business\, municipal and nonprofit customers can find energy-efficiency solutions that save money and boost bottom lines. We'll also let you know about the money-saving incentives we have for qualifying projects for existing facilities\, retrofits and new construction.
X-ALT-DESC;FMTTYPE=text/html:You&#39\;re invited to join NV Energy&#39\;s commercial energy services team at the Carson City Energy Summit. It&#39\;s free to attend. Technical advisors will be on-hand to discuss how our business\, municipal and nonprofit customers can find energy-efficiency solutions that save money and boost bottom lines. We&#39\;ll also let you know about the money-saving incentives we have for qualifying projects for existing facilities\, retrofits and new construction.
LOCATION:Carson City Plaza Event Center 211 East 9th Street Carson City\, NV 89701
UID:e.820.18762
SEQUENCE:3
DTSTAMP:20260425T134033Z
URL:https://business.carsonvalleynv.org/events/details/nv-energy-2016-carson-city-energy-summit-04-27-2016-18762
END:VEVENT

END:VCALENDAR
