BEGIN:VCALENDAR
VERSION:2.0
PRODID:-//ChamberMaster//Event Calendar 2.0//EN
METHOD:PUBLISH
X-PUBLISHED-TTL:P3D
REFRESH-INTERVAL:P3D
CALSCALE:GREGORIAN
BEGIN:VEVENT
DTSTART:20251121T180000Z
DTEND:20251124T000000Z
X-MICROSOFT-CDO-ALLDAYEVENT:FALSE
SUMMARY:November Pop-up at Eddy Street Vintage Market
DESCRIPTION:Save the date for our November 2025 Pop-up!
X-ALT-DESC;FMTTYPE=text/html:Save the date for our November 2025 Pop-up!
LOCATION:Eddy Street Vintage Market 1235 Eddy Street\, Gardnerville\, NV\, 89410
UID:e.820.46109
SEQUENCE:3
DTSTAMP:20260423T163916Z
URL:https://business.carsonvalleynv.org/events/details/november-pop-up-at-eddy-street-vintage-market-46109
END:VEVENT

END:VCALENDAR
