BEGIN:VCALENDAR
VERSION:2.0
PRODID:-//ChamberMaster//Event Calendar 2.0//EN
METHOD:PUBLISH
X-PUBLISHED-TTL:P3D
REFRESH-INTERVAL:P3D
CALSCALE:GREGORIAN
BEGIN:VEVENT
DTSTART:20160716T150000Z
DTEND:20160716T230000Z
X-MICROSOFT-CDO-ALLDAYEVENT:FALSE
SUMMARY:Northern Nevada Pond Club Tour
DESCRIPTION:Please join The Northern Nevada Pond Club\, for our annual pond tour. Experience the joy of water features\, Koi\, and unique landscapes..Meet our club members\,and share their knowledge and pride in their work
X-ALT-DESC;FMTTYPE=text/html:Please join The Northern Nevada Pond Club\, for our annual pond tour. Experience the joy of water features\, Koi\, and unique landscapes..Meet our club members\,and share their knowledge and pride in their work
LOCATION:Carson Valley and Carson City
UID:e.820.17109
SEQUENCE:3
DTSTAMP:20260423T184819Z
URL:https://business.carsonvalleynv.org/events/details/northern-nevada-pond-club-tour-07-16-2016-17109
END:VEVENT

END:VCALENDAR
