BEGIN:VCALENDAR
VERSION:2.0
PRODID:-//ChamberMaster//Event Calendar 2.0//EN
METHOD:PUBLISH
X-PUBLISHED-TTL:P3D
REFRESH-INTERVAL:P3D
CALSCALE:GREGORIAN
BEGIN:VEVENT
DTSTART:20150814T143000Z
DTEND:20150814T143000Z
X-MICROSOFT-CDO-ALLDAYEVENT:FALSE
SUMMARY:New Member Orientation
DESCRIPTION:Join us for a New Member Orientation. We'll review all of the benefits that come along with your membership and ways to leverage your membership with additional opportunities. We even throw in coffee\, tea and a continental breakfast item or three for you and there's no charge to members \n\nAnd it has benefits for long time members too!
X-ALT-DESC;FMTTYPE=text/html:<span style="font-size: 12px\;"><span style="font-family: arial\;">Join us for a New Member Orientation. We&rsquo\;ll review all of the benefits that come along with your membership and ways to leverage your membership with additional opportunities. We even throw in coffee\, tea and a continental breakfast item or three for you and there&rsquo\;s no charge to members&hellip\;<br />\nAnd it </span></span>has benefits for long time members too!
LOCATION:Carson Valley Chamber of Commerce 1477 US HWY 395 North Conference Room inside the Cultural Museum
UID:e.820.13604
SEQUENCE:3
DTSTAMP:20260426T032302Z
URL:https://business.carsonvalleynv.org/events/details/new-member-orientation-08-14-2015-13604
END:VEVENT

END:VCALENDAR
